BEGIN:VCALENDAR
VERSION:2.0
PRODID:-//Turner Maine - ECPv6.15.20//NONSGML v1.0//EN
CALSCALE:GREGORIAN
METHOD:PUBLISH
X-ORIGINAL-URL:https://www.turnermaine.com
X-WR-CALDESC:Events for Turner Maine
REFRESH-INTERVAL;VALUE=DURATION:PT1H
X-Robots-Tag:noindex
X-PUBLISHED-TTL:PT1H
BEGIN:VTIMEZONE
TZID:America/New_York
BEGIN:DAYLIGHT
TZOFFSETFROM:-0500
TZOFFSETTO:-0400
TZNAME:EDT
DTSTART:20240310T070000
END:DAYLIGHT
BEGIN:STANDARD
TZOFFSETFROM:-0400
TZOFFSETTO:-0500
TZNAME:EST
DTSTART:20241103T060000
END:STANDARD
BEGIN:DAYLIGHT
TZOFFSETFROM:-0500
TZOFFSETTO:-0400
TZNAME:EDT
DTSTART:20250309T070000
END:DAYLIGHT
BEGIN:STANDARD
TZOFFSETFROM:-0400
TZOFFSETTO:-0500
TZNAME:EST
DTSTART:20251102T060000
END:STANDARD
BEGIN:DAYLIGHT
TZOFFSETFROM:-0500
TZOFFSETTO:-0400
TZNAME:EDT
DTSTART:20260308T070000
END:DAYLIGHT
BEGIN:STANDARD
TZOFFSETFROM:-0400
TZOFFSETTO:-0500
TZNAME:EST
DTSTART:20261101T060000
END:STANDARD
END:VTIMEZONE
BEGIN:VEVENT
DTSTART;TZID=America/New_York:20251103T180000
DTEND;TZID=America/New_York:20251103T200000
DTSTAMP:20260424T123857
CREATED:20251022T122851Z
LAST-MODIFIED:20251030T203045Z
UID:1897-1762192800-1762200000@www.turnermaine.com
SUMMARY:Board of Selectmen
DESCRIPTION:Agenda – November 3\, 2025 Meeting
URL:https://www.turnermaine.com/event/board-of-selectmen-10/
LOCATION:Turner Fire and Rescue\, 19 General Turner Hill Road\, Turner\, ME\, 04282\, United States
END:VEVENT
BEGIN:VEVENT
DTSTART;TZID=America/New_York:20251104T070000
DTEND;TZID=America/New_York:20251104T200000
DTSTAMP:20260424T123857
CREATED:20251022T124203Z
LAST-MODIFIED:20251022T124203Z
UID:1915-1762239600-1762286400@www.turnermaine.com
SUMMARY:Referendum Vote
DESCRIPTION:Absentee Ballots are available through October 30 at 6:00 p.m.  Please contact the Town Office for details.
URL:https://www.turnermaine.com/event/referendum-vote/
LOCATION:Turner Town Office\, 11 Turner Center Road\, Turner\, 04282\, United States
END:VEVENT
BEGIN:VEVENT
DTSTART;TZID=America/New_York:20251105T180000
DTEND;TZID=America/New_York:20251105T200000
DTSTAMP:20260424T123857
CREATED:20251022T123350Z
LAST-MODIFIED:20251022T123350Z
UID:1905-1762365600-1762372800@www.turnermaine.com
SUMMARY:Planning Board Workshop
DESCRIPTION:
URL:https://www.turnermaine.com/event/planning-board-workshop-6/
LOCATION:Turner Town Office\, 11 Turner Center Road\, Turner\, 04282\, United States
END:VEVENT
BEGIN:VEVENT
DTSTART;TZID=America/New_York:20251117T180000
DTEND;TZID=America/New_York:20251117T200000
DTSTAMP:20260424T123857
CREATED:20251022T122947Z
LAST-MODIFIED:20251113T210316Z
UID:1899-1763402400-1763409600@www.turnermaine.com
SUMMARY:Board of Selectmen
DESCRIPTION:November 17\, 2025 Agenda
URL:https://www.turnermaine.com/event/board-of-selectmen-11/
LOCATION:Turner Town Office\, 11 Turner Center Road\, Turner\, 04282\, United States
END:VEVENT
BEGIN:VEVENT
DTSTART;TZID=America/New_York:20251119T180000
DTEND;TZID=America/New_York:20251119T200000
DTSTAMP:20260424T123857
CREATED:20251022T123437Z
LAST-MODIFIED:20251022T123437Z
UID:1907-1763575200-1763582400@www.turnermaine.com
SUMMARY:Planning Board Meeting
DESCRIPTION:
URL:https://www.turnermaine.com/event/planning-board-meeting-6/
LOCATION:Turner Town Office\, 11 Turner Center Road\, Turner\, 04282\, United States
END:VEVENT
END:VCALENDAR